BEGIN:VCALENDAR
VERSION:2.0
PRODID:-//Brooklyn-Queens NOW - ECPv6.15.18//NONSGML v1.0//EN
CALSCALE:GREGORIAN
METHOD:PUBLISH
X-ORIGINAL-URL:https://brooklynqueensnow.org
X-WR-CALDESC:Events for Brooklyn-Queens NOW
REFRESH-INTERVAL;VALUE=DURATION:PT1H
X-Robots-Tag:noindex
X-PUBLISHED-TTL:PT1H
BEGIN:VTIMEZONE
TZID:America/New_York
BEGIN:DAYLIGHT
TZOFFSETFROM:-0500
TZOFFSETTO:-0400
TZNAME:EDT
DTSTART:20210314T070000
END:DAYLIGHT
BEGIN:STANDARD
TZOFFSETFROM:-0400
TZOFFSETTO:-0500
TZNAME:EST
DTSTART:20211107T060000
END:STANDARD
BEGIN:DAYLIGHT
TZOFFSETFROM:-0500
TZOFFSETTO:-0400
TZNAME:EDT
DTSTART:20220313T070000
END:DAYLIGHT
BEGIN:STANDARD
TZOFFSETFROM:-0400
TZOFFSETTO:-0500
TZNAME:EST
DTSTART:20221106T060000
END:STANDARD
BEGIN:DAYLIGHT
TZOFFSETFROM:-0500
TZOFFSETTO:-0400
TZNAME:EDT
DTSTART:20230312T070000
END:DAYLIGHT
BEGIN:STANDARD
TZOFFSETFROM:-0400
TZOFFSETTO:-0500
TZNAME:EST
DTSTART:20231105T060000
END:STANDARD
END:VTIMEZONE
BEGIN:VEVENT
DTSTART;VALUE=DATE:20221008
DTEND;VALUE=DATE:20221010
DTSTAMP:20260424T001038
CREATED:20220923T184530Z
LAST-MODIFIED:20220925T203948Z
UID:1319-1665187200-1665359999@brooklynqueensnow.org
SUMMARY:National NOW Board Meeting
DESCRIPTION:
URL:https://brooklynqueensnow.org/event/national-now-board-meeting/
CATEGORIES:National NOW
ATTACH;FMTTYPE=image/png:https://brooklynqueensnow.org/wp/wp-content/uploads/2022/03/NOW-national.png
END:VEVENT
BEGIN:VEVENT
DTSTART;TZID=America/New_York:20221009T143000
DTEND;TZID=America/New_York:20221009T143000
DTSTAMP:20260424T001038
CREATED:20220919T035657Z
LAST-MODIFIED:20220919T035657Z
UID:1312-1665325800-1665325800@brooklynqueensnow.org
SUMMARY:Chapter Meeting
DESCRIPTION:
URL:https://brooklynqueensnow.org/event/chapter-meeting-13/
LOCATION:Zoom
CATEGORIES:Chapter Meeting
ATTACH;FMTTYPE=image/png:https://brooklynqueensnow.org/wp/wp-content/uploads/2021/09/chapter-meeting-icon-e1632597704285.png
END:VEVENT
BEGIN:VEVENT
DTSTART;TZID=America/New_York:20221013T150000
DTEND;TZID=America/New_York:20221013T180000
DTSTAMP:20260424T001038
CREATED:20220703T034853Z
LAST-MODIFIED:20220703T035011Z
UID:1283-1665673200-1665684000@brooklynqueensnow.org
SUMMARY:PowHER Equity Summit
DESCRIPTION:
URL:https://brooklynqueensnow.org/event/powher-equity-summit/
CATEGORIES:Allied Organizations
ATTACH;FMTTYPE=image/png:https://brooklynqueensnow.org/wp/wp-content/uploads/2022/07/powHERequitysummit.png
END:VEVENT
BEGIN:VEVENT
DTSTART;VALUE=DATE:20221029
DTEND;VALUE=DATE:20221107
DTSTAMP:20260424T001038
CREATED:20220923T184800Z
LAST-MODIFIED:20220925T204054Z
UID:1321-1667001600-1667779199@brooklynqueensnow.org
SUMMARY:Early Voting - NYS
DESCRIPTION:Early voting 10/20 – 11/6/2022
URL:https://brooklynqueensnow.org/event/early-voting-nys/
CATEGORIES:VOTE!!
ATTACH;FMTTYPE=image/png:https://brooklynqueensnow.org/wp/wp-content/uploads/2022/03/calendar-vote-20222.png
END:VEVENT
END:VCALENDAR