BEGIN:VCALENDAR
VERSION:2.0
PRODID:-//Brooklyn-Queens NOW - ECPv6.15.18//NONSGML v1.0//EN
CALSCALE:GREGORIAN
METHOD:PUBLISH
X-ORIGINAL-URL:https://brooklynqueensnow.org
X-WR-CALDESC:Events for Brooklyn-Queens NOW
REFRESH-INTERVAL;VALUE=DURATION:PT1H
X-Robots-Tag:noindex
X-PUBLISHED-TTL:PT1H
BEGIN:VTIMEZONE
TZID:America/New_York
BEGIN:DAYLIGHT
TZOFFSETFROM:-0500
TZOFFSETTO:-0400
TZNAME:EDT
DTSTART:20210314T070000
END:DAYLIGHT
BEGIN:STANDARD
TZOFFSETFROM:-0400
TZOFFSETTO:-0500
TZNAME:EST
DTSTART:20211107T060000
END:STANDARD
BEGIN:DAYLIGHT
TZOFFSETFROM:-0500
TZOFFSETTO:-0400
TZNAME:EDT
DTSTART:20220313T070000
END:DAYLIGHT
BEGIN:STANDARD
TZOFFSETFROM:-0400
TZOFFSETTO:-0500
TZNAME:EST
DTSTART:20221106T060000
END:STANDARD
BEGIN:DAYLIGHT
TZOFFSETFROM:-0500
TZOFFSETTO:-0400
TZNAME:EDT
DTSTART:20230312T070000
END:DAYLIGHT
BEGIN:STANDARD
TZOFFSETFROM:-0400
TZOFFSETTO:-0500
TZNAME:EST
DTSTART:20231105T060000
END:STANDARD
END:VTIMEZONE
BEGIN:VEVENT
DTSTART;TZID=America/New_York:20220710T143000
DTEND;TZID=America/New_York:20220710T143000
DTSTAMP:20260425T205039
CREATED:20220307T041014Z
LAST-MODIFIED:20220503T225929Z
UID:1188-1657463400-1657463400@brooklynqueensnow.org
SUMMARY:Chapter Meeting
DESCRIPTION:
URL:https://brooklynqueensnow.org/event/chapter-meeting-11/
LOCATION:Zoom
CATEGORIES:Chapter Meeting
ATTACH;FMTTYPE=image/png:https://brooklynqueensnow.org/wp/wp-content/uploads/2021/09/chapter-meeting-icon-e1632597704285.png
END:VEVENT
BEGIN:VEVENT
DTSTART;VALUE=DATE:20220722
DTEND;VALUE=DATE:20220725
DTSTAMP:20260425T205039
CREATED:20220307T051032Z
LAST-MODIFIED:20220308T003007Z
UID:1199-1658448000-1658707199@brooklynqueensnow.org
SUMMARY:National NOW Conference in Chicago
DESCRIPTION:2022 National NOW Conference: Save Our Democracy – Vote for Womxn’s Lives – Chicago\, In-person\nSave the date!  Details to follow.
URL:https://brooklynqueensnow.org/event/national-now-conference-in-chicago/
CATEGORIES:NOW Conference
ATTACH;FMTTYPE=image/png:https://brooklynqueensnow.org/wp/wp-content/uploads/2022/03/NOW-national.png
END:VEVENT
END:VCALENDAR